BEGIN:VCALENDAR
VERSION:2.0
PRODID:http://www.infomax-online.de/imxeventmanager/
METHOD:PUBLISH
BEGIN:VTIMEZONE
TZID:Europe/Berlin
TZURL:http://tzurl.org/zoneinfo-outlook/Europe/Berlin
X-LIC-LOCATION:Europe/Berlin
END:VTIMEZONE
BEGIN:VEVENT
UID:69eb9e8737a29
LOCATION:Sanktjohanserstr. 12, 83707 Bad Wiessee
SUMMARY:Geführte Bergtour - Hochalm
DESCRIPTION:Gef&uuml\;hrte Bergtour mit Josef Mei&szlig\;auer - Hochalm &uuml\;ber Mitteralm (1.428 m) Gehzeit etwa 6 Stunden\, 510&nbsp\;H&ouml\;henmeter. Schwierigkeit: schwer.

Wenn m&ouml\;glich mit eigenem PKW oder&nbsp\;Fahrgemeinschaften bilden.&nbsp\;Wander- oder Bergschuhe (keine Halbschuhe) erforderlich\, Wanderst&ouml\;cke empfohlen\, Kondition/Trittsicherheit erforderlich\, Regenschutz und warme Jacke\, Sonnenschutz und bitte ausreichend Getr&auml\;nke und Verpflegung mitnehmen. Auf den Touren sind keine Tiere erlaubt.&nbsp\;

Abwechslungsreiche Tour mit herrlichen Ausblicken.

Kinder/ Jugendliche ab 15 Jahre.

Treffpunkt: Tourist-Information Bad Wiessee

&nbsp\;
URL;VALUE=URI:https://www.tegernsee.com/
CLASS:PUBLIC
DTSTART:20260814T090000
DTSTAMP:20260424T184703
END:VEVENT
END:VCALENDAR