BEGIN:VCALENDAR
VERSION:2.0
PRODID:http://www.infomax-online.de/imxeventmanager/
METHOD:PUBLISH
BEGIN:VTIMEZONE
TZID:Europe/Berlin
TZURL:http://tzurl.org/zoneinfo-outlook/Europe/Berlin
X-LIC-LOCATION:Europe/Berlin
END:VTIMEZONE
BEGIN:VEVENT
UID:69ed4eb948c2f
LOCATION:Sanktjohanserstr. 12, 83707 Bad Wiessee
SUMMARY:Geführte Bergtour - Roß- und Buchstein
DESCRIPTION:Gef&uuml\;hrte Bergtour mit Josef Mei&szlig\;auer - Ro&szlig\;- und Buchstein (1.698&nbsp\;m)\, Gehzeit etwa 7&nbsp\;Stunden\, 995&nbsp\;H&ouml\;henmeter.Schwierigkeit: schwer.

Wenn m&ouml\;glich mit eigenem PKW oder Fahrgemeinschaften bilden.&nbsp\;Wander- oder Bergschuhe (keine Halbschuhe) erforderlich\, Wanderst&ouml\;cke empfohlen\, Kondition/Trittsicherheit erforderlich\,&nbsp\;Regenschutz und warme Jacke\, Sonnenschutz und bitte ausreichend Getr&auml\;nke und Verpflegung mitnehmen. Auf den Touren sind keine Tiere erlaubt.&nbsp\;

Abwechslungsreiche Tour mit herrlichen Ausblicken.

Kinder/ Jugendliche&nbsp\; ab 15 Jahre

Treffpunkt: Tourist-Information Bad Wiessee

&nbsp\;
URL;VALUE=URI:https://www.tegernsee.com/
CLASS:PUBLIC
DTSTART:20260911T090000
DTSTAMP:20260426T013105
END:VEVENT
END:VCALENDAR