BEGIN:VCALENDAR
VERSION:2.0
PRODID:http://www.infomax-online.de/imxeventmanager/
METHOD:PUBLISH
BEGIN:VTIMEZONE
TZID:Europe/Berlin
TZURL:http://tzurl.org/zoneinfo-outlook/Europe/Berlin
X-LIC-LOCATION:Europe/Berlin
END:VTIMEZONE
BEGIN:VEVENT
UID:69ed3e47bd9b2
LOCATION:Nördl. Hauptstr. 35, 83700 Rottach-Egern
SUMMARY:Sebastian Reich & Amanda - "Purer Zufall"
DESCRIPTION:&quot\;Purer Zufall&ldquo\; &ndash\; die neue Comedyshow\, die das Gl&uuml\;ck verdoppelt. Nilpferd Amanda &amp\; Co sind bereit f&uuml\;r ein neues Showerlebnis voller Spa&szlig\; und unvorhersehbarer &Uuml\;berraschungen. Im bereits f&uuml\;nften Tour-Programm von Bauchredner Sebastian Reich geht es rund: Es wird musikalisch\, zauberhaft\, emotional\, romantisch\, interaktiv und vor allen Dingen lustig. W&auml\;hrend Amanda gerne mal improvisiert\, &uuml\;berl&auml\;sst Sebastian nichts dem Zufall\, so ist zumindest sein Plan. W&auml\;re da nicht Amanda\, die sich ganz besonders auf ein Wiedersehen mit alten Bekannten freut\, wie z. B. den fr&auml\;nkischen Maulwurf Schorsch. Er und weitere G&auml\;ste sorgen diesmal f&uuml\;r einen fesselnden Mix und eine Reise in die verr&uuml\;ckte Welt der Spontaneit&auml\;t. Keine Show wird der anderen gleich sein\, daf&uuml\;r wird Amanda sorgen. Denn hierbei hat sie vor allen Dingen eine Sache im Blick: Momente\, welche sich gerade einfach so aus dem Nichts ergeben\, aus denen dann durchgeknallte Geschichten entstehen. Neue Ideen treffen auf Klassiker aus 20 Jahren B&uuml\;hnenleben. Spontane Improvisationen vermischen sich mit interaktiven Momenten. Eine Unberechenbarkeit\, die den besonderen Reiz der Show ausmacht.

&bdquo\;Mit der neuen Tour &bdquo\;Purer Zufall&ldquo\; spielen wir sicher die abwechslungsreichste Show\, mit der wir je unterwegs waren. Besonders wichtig ist mir dabei\, dass wir wieder alle Altersklassen ansprechen. So freuen wir uns auf ein bunt gemischtes Publikum\, vom Single bis zur Familie\, vom Kind bis zum Rentner\, bis hin zu Freunden &amp\; Kollegen\, die gemeinsam einfach einen lustigen Abend verbringen wollen&ldquo\;\, so Sebastian Reich. Ein Feuerwerk an Komik und Humor mit einem Mix aus skurrilen Geschichten\, interaktiven Einlagen und der Magie des Zufalls. Dass die Lachmuskeln dabei strapaziert werden\, ist alles andere als Zufall.

Tickets auch bei Eventim - hier
URL;VALUE=URI:https://www.tegernsee.com/
CLASS:PUBLIC
DTSTART:20260912T200000
DTSTAMP:20260426T002055
END:VEVENT
END:VCALENDAR