BEGIN:VCALENDAR
VERSION:2.0
PRODID:http://www.infomax-online.de/imxeventmanager/
METHOD:PUBLISH
BEGIN:VTIMEZONE
TZID:Europe/Berlin
TZURL:http://tzurl.org/zoneinfo-outlook/Europe/Berlin
X-LIC-LOCATION:Europe/Berlin
END:VTIMEZONE
BEGIN:VEVENT
UID:69ebb6a33c98a
LOCATION:Sonnenbichlweg , 83707 Bad Wiessee
SUMMARY:Waldtherapie in Bad Wiessee
DESCRIPTION:Freuen Sie sich auf eine heilkr&auml\;ftige Auszeit und therapeutische Einheit im Wald. Die Physiotherapeutin und Heilpraktikerin f&uuml\;r Physiotherapie\, Klima- und Waldtherapeutin Elke Gebauer nimmt Sie gern mit\, wenn sie ihr Behandlungszimmer in den Heilwald verlegt. Das besondere Heilklima und die gr&uuml\;ne Kraft des Waldes verst&auml\;rken die Therapieeffekte der physiotherapeutischen &Uuml\;bungen und verl&auml\;ngern ihre Wirkung: Der Blutdruck senkt sich\, das Stresslevel f&auml\;hrt herunter\, die Atmung wird tiefer und die Immunreaktion verst&auml\;rkt. Nach einem Weg von etwa 500 Metern erreichen Sie einen ruhigen Platz im Wald. Dort erleben Sie die positive Wirkung der Kombination aus Atemtherapie\, Gleichgewichts- und Koordinationstraining\, Gangschule sowie Entspannungs&uuml\;bungen und der heilsamen Kraft des Waldes. Die Waldtherapie ist eine um physiotherapeutische Aspekte erweiterte Form des Waldbadens &ndash\; geeignet f&uuml\;r gesunde wie eingeschr&auml\;nkte Menschen gleicherma&szlig\;en\, pr&auml\;ventiv oder als Behandlungseinheit.

Anforderung: Kondition f&uuml\;r 500 m Gehen im Waldareal\, F&auml\;higkeit zum Sitzen auf dem Waldboden

Zusatzinformation: Nach der Anmeldung unterschreiben Sie einen Haftungsausschluss.&nbsp\;

Ausr&uuml\;stung: Warme und bequeme Kleidung\, gutes Schuhwerk\, Regenschutz\, Zeckenschutz\, ausreichend Wasser\, Sonnencreme&nbsp\;

Teilnehmer: mindestens 4\, maximal 8 Teilnehmer

Tickets &uuml\;ber den roten Button direkt bestellbar
URL;VALUE=URI:https://www.tegernsee.com/
CLASS:PUBLIC
DTSTART:20260717T130000
DTSTAMP:20260424T202955
END:VEVENT
END:VCALENDAR