BEGIN:VCALENDAR
VERSION:2.0
PRODID:http://www.infomax-online.de/imxeventmanager/
METHOD:PUBLISH
BEGIN:VTIMEZONE
TZID:Europe/Berlin
TZURL:http://tzurl.org/zoneinfo-outlook/Europe/Berlin
X-LIC-LOCATION:Europe/Berlin
END:VTIMEZONE
BEGIN:VEVENT
UID:69e5e3d9014e4
LOCATION:Hauptstr. 2, 83684 Tegernsee
SUMMARY:Tegernseer Heimatführer - Brandner Kaspar
DESCRIPTION:Gef&uuml\;hrte Wanderung auf den Spuren des legend&auml\;ren Brandner Kaspars ins Tegernseer Alpbachtal.

Die Tour zeigt\, wo der Brandner Kaspar daheim ist &ndash\; n&auml\;mlich hier&nbsp\;am Alpbach im Tegernseer Tal. Und warum sein Erfinder&nbsp\;Franz von&nbsp\;Kobell&nbsp\;ausgerechnet am Tegernsee das bayerische Paradies erfand. Auf dem Weg in das Alpbachtal bringt Ihnen Heimatf&uuml\;hrer Alfred Tegge die bayerische Lebensart n&auml\;her. Dazu geh&ouml\;rt der Genuss wie das Granteln und der Grant. Au&szlig\;erdem erfahren Sie\, was es mit dem Karteln\, dem Kerschgeist und den Kirtanudeln auf sich hat. Ein lebensfroher Spaziergang\, der Bayerisches auf Bairisch erz&auml\;hlt\, vom Leben am Tegernsee zu Kobells Zeiten\, &uuml\;ber Mundart und Geschichten aus dem Paradies.

Es begleitet Sie: Alfred Tegge

Treffpunkt: 10:00 Uhr | Tourist-Information Tegernsee\, Hauptstr.2\, 83684 Tegernsee

Dauer: 2 Stunden&nbsp\;

Anforderung: festes Schuhwerk

Teilnehmer: max. 10 Personen | Durchf&uuml\;hrungsgarantie ab 1 Person

Anmeldung: bis zum Veranstaltungsbeginn

Tickets: online &uuml\;ber die Tegernsee App (http://www.tegernsee.bayern) und in allen Tourist-Informationen rund um den Tegernsee

Informationen: Tegernseer Tal Tourismus GmbH\, Mail: heimatfuehrer@tegernsee.com\,

Tel. +49 8022 92738-23
URL;VALUE=URI:https://www.tegernsee.com/
CLASS:PUBLIC
DTSTART:20261125T100000
DTSTAMP:20260420T102913
END:VEVENT
END:VCALENDAR