BEGIN:VCALENDAR
VERSION:2.0
PRODID:http://www.infomax-online.de/imxeventmanager/
METHOD:PUBLISH
BEGIN:VTIMEZONE
TZID:Europe/Berlin
TZURL:http://tzurl.org/zoneinfo-outlook/Europe/Berlin
X-LIC-LOCATION:Europe/Berlin
END:VTIMEZONE
BEGIN:VEVENT
UID:69eb926d6527a
LOCATION:Seestraße , 83700 Rottach-Egern
SUMMARY:Serenade am See
DESCRIPTION:Stimmungsvolles Konzert zur blauen Stunde direkt am See mit der Blaskapelle Rottach-Egern unter der Leitung von&nbsp\;Hans Weber.

Kuranlage am See &ndash\; nur bei trockenem Wetter

Freier Eintritt.
URL;VALUE=URI:https://www.tegernsee.com/
CLASS:PUBLIC
DTSTART:20260517T160000
DTSTAMP:20260424T175525
END:VEVENT
END:VCALENDAR