BEGIN:VCALENDAR
VERSION:2.0
PRODID:http://www.infomax-online.de/imxeventmanager/
METHOD:PUBLISH
BEGIN:VTIMEZONE
TZID:Europe/Berlin
TZURL:http://tzurl.org/zoneinfo-outlook/Europe/Berlin
X-LIC-LOCATION:Europe/Berlin
END:VTIMEZONE
BEGIN:VEVENT
UID:69ecb7156c0e0
LOCATION:Seepromenade , 83707 Bad Wiessee
SUMMARY:Maiandacht Bad Wiessee
DESCRIPTION:Bayrische Maiandacht zu Ehren der Patrona Bavariae. Bei Regen in der Kirche Maria Himmelfahrt.
URL;VALUE=URI:https://www.tegernsee.com/
CLASS:PUBLIC
DTSTART:20260501T100000
DTSTAMP:20260425T144405
END:VEVENT
END:VCALENDAR