BEGIN:VCALENDAR
VERSION:2.0
PRODID:http://www.infomax-online.de/imxeventmanager/
METHOD:PUBLISH
BEGIN:VTIMEZONE
TZID:Europe/Berlin
TZURL:http://tzurl.org/zoneinfo-outlook/Europe/Berlin
X-LIC-LOCATION:Europe/Berlin
END:VTIMEZONE
BEGIN:VEVENT
UID:69eb76504fd79
LOCATION:Überfahrtstr. 10, 83700 Rottach-Egern
SUMMARY:Autorenlesung mit Martin Walker
DESCRIPTION:Im neuesten Fall f&uuml\;r Bruno\, Chef de police\, scheint ein r&auml\;tselhafter Todesfall schnell gel&ouml\;st &ndash\; doch Bruno bleibt skeptisch und folgt seinem Instinkt\, um die Wahrheit aufzudecken.&nbsp\;

Bitte beachten Sie\, dass die Veranstaltung zweisprachig\, auf Deutsch und Englisch\, stattfindet. Die Lesung durch den Autor findet auf Englisch statt. Der deutsche Leseteil wird von Caroline Ebner gestaltet\, w&auml\;hrend Sonja Still mit Ihrer Moderation durch den Abend f&uuml\;hrt. Freuen Sie sich auf einen Abend\, der literarische Raffinesse und internationale Leichtigkeit vereint.

Infos auf der Website:https://www.althoffcollection.com/de/althoff-seehotel-ueberfahrt/events/autorenlesung-mit-martin-walker

&nbsp\;

&nbsp\;
URL;VALUE=URI:https://www.tegernsee.com/
CLASS:PUBLIC
DTSTART:20260515T173000
DTSTAMP:20260424T155528
END:VEVENT
END:VCALENDAR