BEGIN:VCALENDAR
VERSION:2.0
PRODID:http://www.infomax-online.de/imxeventmanager/
METHOD:PUBLISH
BEGIN:VTIMEZONE
TZID:Europe/Berlin
TZURL:http://tzurl.org/zoneinfo-outlook/Europe/Berlin
X-LIC-LOCATION:Europe/Berlin
END:VTIMEZONE
BEGIN:VEVENT
UID:69ed6cab12391
LOCATION:Überfahrtstr. 10, 83700 Rottach-Egern
SUMMARY:Autorenlesung mit Vea Kaiser
DESCRIPTION:In &bdquo\;Fabula Rasa&ldquo\; verbindet sie scharfsinnige Beobachtungen mit &uuml\;berraschender Poesie und einem Humor\, der mitten ins Herz trifft. Ihre Geschichten sind mal furios\, mal nachdenklich &ndash\; immer lebendig\, manchmal frech\, und dabei zutiefst menschlich.
Begleitet von erfrischenden Getr&auml\;nken wird dieser Abend im Althoff Seehotel &Uuml\;berfahrt zu einem Erlebnis\, das Sie noch lange nach der Lesung bewegt.

Infos auf der Website:&nbsp\;https://www.althoffcollection.com/de/althoff-seehotel-ueberfahrt/events/autorenlesung-mit-vea-kaiser

&nbsp\;

&nbsp\;

&nbsp\;

&nbsp\;
URL;VALUE=URI:https://www.tegernsee.com/
CLASS:PUBLIC
DTSTART:20260928T173000
DTSTAMP:20260426T033851
END:VEVENT
END:VCALENDAR