BEGIN:VCALENDAR
VERSION:2.0
PRODID:http://www.infomax-online.de/imxeventmanager/
METHOD:PUBLISH
BEGIN:VTIMEZONE
TZID:Europe/Berlin
TZURL:http://tzurl.org/zoneinfo-outlook/Europe/Berlin
X-LIC-LOCATION:Europe/Berlin
END:VTIMEZONE
BEGIN:VEVENT
UID:69ed1bcacf372
LOCATION:Tegernseer Straße 101, 83708 Kreuth
SUMMARY:Tanz - Meditation
DESCRIPTION:Erst sch&uuml\;tteln\, dann tanzen\, dann Stille.
Dein K&ouml\;rper liebt es sich zu bewegen und Spannungen loszulassen.

Danach ist es viel leichter\, zur Ruhe zu kommen und dich und deinen K&ouml\;rper zu sp&uuml\;ren.

Anmeldung bei Isabel Wie&szlig\;meier unter kontakt@therapietegernsee.de oder +49 151 29474780
URL;VALUE=URI:https://www.tegernsee.com/
CLASS:PUBLIC
DTSTART:20260510T170000
DTSTAMP:20260425T215346
END:VEVENT
END:VCALENDAR