BEGIN:VCALENDAR
VERSION:2.0
PRODID:http://www.infomax-online.de/imxeventmanager/
METHOD:PUBLISH
BEGIN:VTIMEZONE
TZID:Europe/Berlin
TZURL:http://tzurl.org/zoneinfo-outlook/Europe/Berlin
X-LIC-LOCATION:Europe/Berlin
END:VTIMEZONE
BEGIN:VEVENT
UID:69eb9417351d5
LOCATION:Nördl. Hauptstr. 25, 83700 Rottach-Egern
SUMMARY:Live Musik beim Rosser
DESCRIPTION:Freuen Sie sich auf einen gem&uuml\;tlichen musikalischen Abend. Bei sch&ouml\;nem Wetter im Biergarten und bei Regen in der Gastst&auml\;tte.
URL;VALUE=URI:https://www.tegernsee.com/
CLASS:PUBLIC
DTSTART:20260612T180000
DTSTAMP:20260424T180231
END:VEVENT
END:VCALENDAR